BEGIN:VCALENDAR
VERSION:2.0
PRODID:-//Jewish Family &amp; Community Services East Bay - ECPv6.15.20//NONSGML v1.0//EN
CALSCALE:GREGORIAN
METHOD:PUBLISH
X-ORIGINAL-URL:https://jfcs-eastbay.org
X-WR-CALDESC:Events for Jewish Family &amp; Community Services East Bay
REFRESH-INTERVAL;VALUE=DURATION:PT1H
X-Robots-Tag:noindex
X-PUBLISHED-TTL:PT1H
BEGIN:VTIMEZONE
TZID:America/Los_Angeles
BEGIN:DAYLIGHT
TZOFFSETFROM:-0800
TZOFFSETTO:-0700
TZNAME:PDT
DTSTART:20250309T100000
END:DAYLIGHT
BEGIN:STANDARD
TZOFFSETFROM:-0700
TZOFFSETTO:-0800
TZNAME:PST
DTSTART:20251102T090000
END:STANDARD
BEGIN:DAYLIGHT
TZOFFSETFROM:-0800
TZOFFSETTO:-0700
TZNAME:PDT
DTSTART:20260308T100000
END:DAYLIGHT
BEGIN:STANDARD
TZOFFSETFROM:-0700
TZOFFSETTO:-0800
TZNAME:PST
DTSTART:20261101T090000
END:STANDARD
BEGIN:DAYLIGHT
TZOFFSETFROM:-0800
TZOFFSETTO:-0700
TZNAME:PDT
DTSTART:20270314T100000
END:DAYLIGHT
BEGIN:STANDARD
TZOFFSETFROM:-0700
TZOFFSETTO:-0800
TZNAME:PST
DTSTART:20271107T090000
END:STANDARD
END:VTIMEZONE
BEGIN:VEVENT
DTSTART;TZID=America/Los_Angeles:20260311T190000
DTEND;TZID=America/Los_Angeles:20260311T190000
DTSTAMP:20260424T031805
CREATED:20260309T213718Z
LAST-MODIFIED:20260309T213825Z
UID:4851-1773255600-1773255600@jfcs-eastbay.org
SUMMARY:Jewish Values in Action: Supporting Immigrants Across the Bay Area
DESCRIPTION:Stewart Florsheim\, JFCS East Bay board member and community leader at Temple  Sinai\, and volunteer extraordinaire\, will be speaking on a panel of Jewish community  leaders to highlight diverse ways that the Jewish community is meeting the moment and  supporting the immigrant community across the Bay Area. 
URL:https://jfcs-eastbay.org/event/jewish-values-in-action-supporting-immigrants-across-the-bay-area/
CATEGORIES:Advocacy,Immigration,Refugees
ATTACH;FMTTYPE=image/webp:https://jfcs-eastbay.org/wp-content/uploads/2026/03/Jewish-Values-in-Action.webp
END:VEVENT
BEGIN:VEVENT
DTSTART;TZID=America/Los_Angeles:20260312T180000
DTEND;TZID=America/Los_Angeles:20260312T180000
DTSTAMP:20260424T031805
CREATED:20260309T214435Z
LAST-MODIFIED:20260309T214435Z
UID:4853-1773338400-1773338400@jfcs-eastbay.org
SUMMARY:Constitutional Observers In-Person Training
DESCRIPTION:First Amendment & Free Speech Rights \n How to observe and document ICE activities\n How to connect with community resources
URL:https://jfcs-eastbay.org/event/constitutional-observers-in-person-training/
LOCATION:Teamsters Hall\, 2727 Alhambra Avenue\, Martinez\, CA\, 94553\, United States
CATEGORIES:Advocacy,Immigration,Refugees
ATTACH;FMTTYPE=image/webp:https://jfcs-eastbay.org/wp-content/uploads/2026/03/Screenshot-2026-03-09-at-2.43.53-PM.webp
END:VEVENT
END:VCALENDAR